BEGIN:VCALENDAR
VERSION:2.0
PRODID:-//JCCM - Jewish Cultural Center of Monaco - ECPv6.14.2//NONSGML v1.0//EN
CALSCALE:GREGORIAN
METHOD:PUBLISH
X-ORIGINAL-URL:https://jccmonaco.com
X-WR-CALDESC:Events for JCCM - Jewish Cultural Center of Monaco
REFRESH-INTERVAL;VALUE=DURATION:PT1H
X-Robots-Tag:noindex
X-PUBLISHED-TTL:PT1H
BEGIN:VTIMEZONE
TZID:Europe/Helsinki
BEGIN:DAYLIGHT
TZOFFSETFROM:+0200
TZOFFSETTO:+0300
TZNAME:EEST
DTSTART:20250330T010000
END:DAYLIGHT
BEGIN:STANDARD
TZOFFSETFROM:+0300
TZOFFSETTO:+0200
TZNAME:EET
DTSTART:20251026T010000
END:STANDARD
BEGIN:DAYLIGHT
TZOFFSETFROM:+0200
TZOFFSETTO:+0300
TZNAME:EEST
DTSTART:20260329T010000
END:DAYLIGHT
BEGIN:STANDARD
TZOFFSETFROM:+0300
TZOFFSETTO:+0200
TZNAME:EET
DTSTART:20261025T010000
END:STANDARD
END:VTIMEZONE
BEGIN:VEVENT
DTSTART;TZID=Europe/Helsinki:20260401T191500
DTEND;TZID=Europe/Helsinki:20260401T230000
DTSTAMP:20260419T172249
CREATED:20260312T092729Z
LAST-MODIFIED:20260312T093609Z
UID:4327-1775070900-1775084400@jccmonaco.com
SUMMARY:THE PESACH SEDER 5786
DESCRIPTION:THE PESACH SEDER \nAt the Fairmont Monte Carlo\nSalle d’Or\n \nWednesday Evening\, April 1\, 2026\nPrayers: 19h00 – Seder: 20h15 \n250€ per Adult – 125€ per Child (under 10)\nRSVP before March 25
URL:https://jccmonaco.com/event/the-pesach-seder-5786/
LOCATION:Fairmont Monte Carlo\, 12 Av. des Spélugues\, Monaco\, 98000\, Monaco
CATEGORIES:Pessah
ATTACH;FMTTYPE=image/jpeg:https://jccmonaco.com/wp-content/uploads/2026/03/WhatsApp-Image-2026-03-09-at-13.47.40.jpeg
END:VEVENT
BEGIN:VEVENT
DTSTART;TZID=Europe/Helsinki:20250412T193000
DTEND;TZID=Europe/Helsinki:20250412T230000
DTSTAMP:20260419T172249
CREATED:20250318T091230Z
LAST-MODIFIED:20250319T084359Z
UID:2622-1744486200-1744498800@jccmonaco.com
SUMMARY:THE PESACH SEDER 5785
DESCRIPTION:THE PESACH SEDER \nAt the Fairmont Monte Carlo\nSalle d’Or\n \nSaturday Evening\, April 12\, 2025\nPrayers: 19h45 – Seder: 20h45 \n250€ per Adult – 125€ per Child (under 10)
URL:https://jccmonaco.com/event/the-pesach-seder-5785/
LOCATION:Fairmont Monte Carlo\, 12 Av. des Spélugues\, Monaco\, 98000\, Monaco
CATEGORIES:Pessah
ATTACH;FMTTYPE=image/png:https://jccmonaco.com/wp-content/uploads/2024/03/image0.png
END:VEVENT
END:VCALENDAR