BEGIN:VCALENDAR
VERSION:2.0
PRODID:-//JCCM - Jewish Cultural Center of Monaco - ECPv6.14.2//NONSGML v1.0//EN
CALSCALE:GREGORIAN
METHOD:PUBLISH
X-WR-CALNAME:JCCM - Jewish Cultural Center of Monaco
X-ORIGINAL-URL:https://jccmonaco.com
X-WR-CALDESC:Events for JCCM - Jewish Cultural Center of Monaco
REFRESH-INTERVAL;VALUE=DURATION:PT1H
X-Robots-Tag:noindex
X-PUBLISHED-TTL:PT1H
BEGIN:VTIMEZONE
TZID:Europe/Helsinki
BEGIN:DAYLIGHT
TZOFFSETFROM:+0200
TZOFFSETTO:+0300
TZNAME:EEST
DTSTART:20230326T010000
END:DAYLIGHT
BEGIN:STANDARD
TZOFFSETFROM:+0300
TZOFFSETTO:+0200
TZNAME:EET
DTSTART:20231029T010000
END:STANDARD
END:VTIMEZONE
BEGIN:VEVENT
DTSTART;TZID=Europe/Helsinki:20230916T123000
DTEND;TZID=Europe/Helsinki:20230916T143000
DTSTAMP:20260423T003004
CREATED:20230811T062707Z
LAST-MODIFIED:20230817T133212Z
UID:2352-1694867400-1694874600@jccmonaco.com
SUMMARY:ROSH HASHANA LUNCH – 1st Day
DESCRIPTION:ROSH HASHANA LUNCH – 1st Day \nAt the Fairmont Monte Carlo  \nROSH HASHANA LUNCH – 1st Day \nShabbat September 16 – 12:30 \n150€ per Adult – 75€ per Child under 12
URL:https://jccmonaco.com/event/rosh-hashana-lunch-1st-day/
LOCATION:Fairmont Monte Carlo\, 12 Av. des Spélugues\, Monaco\, 98000\, Monaco
CATEGORIES:5784,Rosh Hashana
ATTACH;FMTTYPE=image/jpeg:https://jccmonaco.com/wp-content/uploads/2019/05/rosh-hachana.jpg
END:VEVENT
BEGIN:VEVENT
DTSTART;TZID=Europe/Helsinki:20230916T203000
DTEND;TZID=Europe/Helsinki:20230916T233000
DTSTAMP:20260423T003004
CREATED:20230811T063309Z
LAST-MODIFIED:20230817T133034Z
UID:2357-1694896200-1694907000@jccmonaco.com
SUMMARY:ROSH HASHANA DINNER – 2nd  Evening
DESCRIPTION:ROSH HASHANA DINNER – 2nd Evening \nShabbat September 16 – 20:30 \n250€ per Adult – 125€ per Child under 12
URL:https://jccmonaco.com/event/rosh-hashana-dinner-2nd-evening/
LOCATION:Fairmont Monte Carlo\, 12 Av. des Spélugues\, Monaco\, 98000\, Monaco
CATEGORIES:5784,Rosh Hashana
ATTACH;FMTTYPE=image/jpeg:https://jccmonaco.com/wp-content/uploads/2019/05/rosh-hachana.jpg
END:VEVENT
END:VCALENDAR