BEGIN:VCALENDAR
VERSION:2.0
PRODID:-//JCCM - Jewish Cultural Center of Monaco - ECPv6.14.2//NONSGML v1.0//EN
CALSCALE:GREGORIAN
METHOD:PUBLISH
X-ORIGINAL-URL:https://jccmonaco.com
X-WR-CALDESC:Events for JCCM - Jewish Cultural Center of Monaco
REFRESH-INTERVAL;VALUE=DURATION:PT1H
X-Robots-Tag:noindex
X-PUBLISHED-TTL:PT1H
BEGIN:VTIMEZONE
TZID:Europe/Helsinki
BEGIN:DAYLIGHT
TZOFFSETFROM:+0200
TZOFFSETTO:+0300
TZNAME:EEST
DTSTART:20230326T010000
END:DAYLIGHT
BEGIN:STANDARD
TZOFFSETFROM:+0300
TZOFFSETTO:+0200
TZNAME:EET
DTSTART:20231029T010000
END:STANDARD
END:VTIMEZONE
BEGIN:VEVENT
DTSTART;TZID=Europe/Helsinki:20230915T200000
DTEND;TZID=Europe/Helsinki:20230915T230000
DTSTAMP:20260424T101705
CREATED:20230804T083649Z
LAST-MODIFIED:20230817T132057Z
UID:2323-1694808000-1694818800@jccmonaco.com
SUMMARY:THE 15TH GRAND ROSH HASHANA DINNER
DESCRIPTION:THE 15TH GRAND ROSH HASHANA DINNER \nAt the Fairmont Monte Carlo  \nROSH HASHANA DINNER – 1st Evening \nFriday September 15 – 20:00 \n250€ per Adult – 125€ per Child under 12
URL:https://jccmonaco.com/event/the-15th-grand-rosh-hashana-dinner/
LOCATION:Fairmont Monte Carlo\, 12 Av. des Spélugues\, Monaco\, 98000\, Monaco
CATEGORIES:5784,Rosh Hashana
ATTACH;FMTTYPE=image/jpeg:https://jccmonaco.com/wp-content/uploads/2019/05/rosh-hachana.jpg
END:VEVENT
END:VCALENDAR